BEGIN:VCALENDAR
PRODID:-//Session events Calendar//IBA//EN
CALSCALE:GREGORIAN
VERSION:2.0
BEGIN:VEVENT
DTSTAMP:20260425T162432Z
DTSTART:20241106T081500Z
DTEND:20241106T084500Z
SUMMARY:ARMCHAIR INTERVIEW: What do clients think about the use of AI by 
 law firms?
DESCRIPTION:Many law firms are investigating how they can best use AI.\nM
 eanwhile\, many of our associates are already using ChatGPT and\nother s
 ystems to generate work – sometimes with the knowledge\nof the firm and 
 sometimes without. Although law firms continue\nto agonise over artifici
 al intelligence (AI)\, this session will allow\nus to hear from the clie
 nts. What issues are clients worried about\nwith regard to their law fir
 ms using AI? As well as themselves\nwrestling with how they use AI\, the
 re are many issues that they\nare concerned about so far as their law fi
 rms are concerned. We\nwill hear those concerns.
LOCATION:
UID:97d268b8-10ab-430d-a954-1460d9871fb4
END:VEVENT
END:VCALENDAR
