BEGIN:VCALENDAR
PRODID:-//Session events Calendar//IBA//EN
CALSCALE:GREGORIAN
VERSION:2.0
BEGIN:VEVENT
DTSTAMP:20260425T163016Z
DTSTART:20241106T093000Z
DTEND:20241106T094000Z
SUMMARY:Closing remarks
DESCRIPTION:
LOCATION:
UID:e65c2deb-de88-458a-bb4e-c27653afaa47
END:VEVENT
END:VCALENDAR
