BEGIN:VCALENDAR
PRODID:-//Session events Calendar//IBA//EN
CALSCALE:GREGORIAN
VERSION:2.0
BEGIN:VEVENT
DTSTAMP:20260419T152405Z
DTSTART:20250221T064500Z
DTEND:20250221T070000Z
SUMMARY:Coffee/tea break
DESCRIPTION:
LOCATION:
UID:395bf8e0-a476-4cde-af43-729a0bba98c8
END:VEVENT
END:VCALENDAR
