BEGIN:VCALENDAR
PRODID:-//Session events Calendar//IBA//EN
CALSCALE:GREGORIAN
VERSION:2.0
BEGIN:VEVENT
DTSTAMP:20260419T152339Z
DTSTART:20250221T081500Z
DTEND:20250221T083000Z
SUMMARY:Coffee/tea break
DESCRIPTION:
LOCATION:
UID:36c310ac-f2bd-43f5-ad20-7ccf742b0e47
END:VEVENT
END:VCALENDAR
