BEGIN:VCALENDAR
PRODID:-//Session events Calendar//IBA//EN
CALSCALE:GREGORIAN
VERSION:2.0
BEGIN:VEVENT
DTSTAMP:20260419T152340Z
DTSTART:20250221T041500Z
DTEND:20250221T053000Z
SUMMARY:Lunch
DESCRIPTION:
LOCATION:
UID:8ee4b118-c2c6-4793-856a-07f06a573fdc
END:VEVENT
END:VCALENDAR
