BEGIN:VCALENDAR
PRODID:-//Session events Calendar//IBA//EN
CALSCALE:GREGORIAN
VERSION:2.0
BEGIN:VEVENT
DTSTAMP:20260420T132739Z
DTSTART:20241025T153000Z
DTEND:20241025T161500Z
SUMMARY:Young lawyers and leadership 
DESCRIPTION:The panel will host an interactive discussion on hot topics r
 elating to young women lawyers in the profession\, developing leadership
  skills and how senior lawyers can provide support in an increasingly co
 mplex and fast paced legal environment.\n
LOCATION:
UID:166d52b8-07a1-4832-9d9b-fc0189384962
END:VEVENT
END:VCALENDAR
