BEGIN:VCALENDAR
PRODID:-//Session events Calendar//IBA//EN
CALSCALE:GREGORIAN
VERSION:2.0
BEGIN:VEVENT
DTSTAMP:20260422T170508Z
DTSTART:20241206T103000Z
DTEND:20241206T113000Z
SUMMARY:Second breakout sessions- Session one: In conversation: Law and l
 iterature
DESCRIPTION:During this conversation with her Her Honour Wendy KC and Ste
 phanie Jones\, Professor of Law and Literature at the University of Sout
 hampton\, Laura Devine and Thomas van Houwelingen-Boer will dive into th
 e interdisciplinary field of law and literature. Reading is a great way 
 to build the capacity to grow empathy\, and to learn how to understand a
 nother person’s feelings and\, more importantly\, their perspectives on 
 life.\n\nHow can literature help to better accept the “otherness” of the
  other? Does a lawyer who reads literature become a better lawyer?\n
LOCATION:Shakespeare Room
UID:2e58b2c1-82a4-4def-acb9-38742ee470b5
END:VEVENT
END:VCALENDAR
