BEGIN:VCALENDAR
PRODID:-//Session events Calendar//IBA//EN
CALSCALE:GREGORIAN
VERSION:2.0
BEGIN:VEVENT
DTSTAMP:20260422T213307Z
DTSTART:20241206T113000Z
DTEND:20241206T123000Z
SUMMARY:Third breakout sessions- Session one: How to build a global pract
 ice
DESCRIPTION:This panel will look at the challenges of moving from the com
 fort of providing inbound immigration services to growing a successful g
 lobal immigration practice. Our panel of seasoned global immigration pra
 ctitioners will look at some of the key issues including different servi
 ce models\, selecting\, building and maintaining relationships with glob
 al co-counsel\, coordination and quality control\, pricing and fee struc
 tures\, technology and data privacy requirements and many other issues e
 ncountered along the way.
LOCATION:Shakespeare Room
UID:f52a5871-63de-4b25-82d6-658f5f3e864c
END:VEVENT
END:VCALENDAR
