BEGIN:VCALENDAR
PRODID:-//Session events Calendar//IBA//EN
CALSCALE:GREGORIAN
VERSION:2.0
BEGIN:VEVENT
DTSTAMP:20260425T140358Z
DTSTART:20241205T110000Z
DTEND:20241205T111500Z
SUMMARY:Closing remarks from the Conference Co-Chairs
DESCRIPTION:
LOCATION:
UID:52e91060-5b8c-400f-8a8f-de0c1dab3d41
END:VEVENT
END:VCALENDAR
