BEGIN:VCALENDAR
PRODID:-//Session events Calendar//IBA//EN
CALSCALE:GREGORIAN
VERSION:2.0
BEGIN:VEVENT
DTSTAMP:20260425T035554Z
DTSTART:20251106T193000Z
DTEND:20251106T204500Z
SUMMARY:Decarbonisation\, climate change resilience and adaptation goals 
 as drivers of regulatory changes for designing\, building and operating 
 infrastructure projects
DESCRIPTION:Climate change agenda and the increasing risk of natural disa
 sters are becoming a relevant driver of infrastructure development publi
 c policies. In some jurisdictions\, regulatory reforms are aiming at fos
 tering higher climate resilience and adaptability in infrastructure proj
 ects and\, on the preventive side\, establishing decarbonisation goals. 
 What are the different angles and approaches? How will these changes aff
 ect how projects are designed\, built and operated? This session will di
 scuss this.
LOCATION:Room 603\, Level 600\, MTCC
UID:413c13cd-9e35-4c7d-a498-8b3aa93a41e9
END:VEVENT
END:VCALENDAR
