BEGIN:VCALENDAR
PRODID:-//Session events Calendar//IBA//EN
CALSCALE:GREGORIAN
VERSION:2.0
BEGIN:VEVENT
DTSTAMP:20260420T083247Z
DTSTART:20251105T193000Z
DTEND:20251105T204500Z
SUMMARY:Risk allocation and force majeure revisited against the backgroun
 d of climate change and abnormal weather
DESCRIPTION:What are the consequences of climate change for risk allocati
 on in construction contracts? Is it more common to encounter clauses tha
 t define force majeure through qualifying circumstances such is severity
 \, periodicity\, etc. Who should bear the risk for abnormal weather that
  does not qualify as force majeure? Which party is better equipped to ma
 nage that risk? What is the availability of insurance against abnormal w
 eather? What are the impacts over the supply chain? This session will co
 ver all of this and more.
LOCATION:Room 603\, Level 600\, MTCC
UID:de328241-7567-493b-bfae-6620eb7317b9
END:VEVENT
END:VCALENDAR
