BEGIN:VCALENDAR
PRODID:-//Session events Calendar//IBA//EN
CALSCALE:GREGORIAN
VERSION:2.0
BEGIN:VEVENT
DTSTAMP:20260419T145011Z
DTSTART:20251104T141500Z
DTEND:20251104T153000Z
SUMMARY:Litigation Committee offsite: The burden of proof in ESG disputes
 
DESCRIPTION:This panel will discuss Environmental\, Social\, and Governan
 ce (ESG)disputes and the role that the burden of proof plays in these di
 sputes.\n\nThe IBA Litigation Committee have organised two sessions with
  the IBA Arbitration Committee to be held offsite on Tuesday 4 November.
  The full programme details are below:\n\n9:00am-9:15am - Welcome remark
 s\n\n9:15am-10:30am - The burden of proof in ESG disputes\n\n11:00am-12:
 15pm - The (controversial) role of experts in dispute resolution\n\n12:1
 5pm-12:30pm -  Closing remarks\n\n12:30pm-1:00pm - Tour of Osgoode Hall\
 n\n\nSpaces are limited and are assigned on a first come first served ba
 sis. Registered conference delegates can register online or at the Speak
 er Registration Desk during the Annual Conference.\n
LOCATION:OFFSITE
UID:2cea0abc-674a-444a-9212-57a1352e7d34
END:VEVENT
END:VCALENDAR
