BEGIN:VCALENDAR
PRODID:-//Session events Calendar//IBA//EN
CALSCALE:GREGORIAN
VERSION:2.0
BEGIN:VEVENT
DTSTAMP:20260422T113226Z
DTSTART:20250303T084500Z
DTEND:20250303T090000Z
SUMMARY:Introduction from the Conference Co-Chairs
DESCRIPTION:
LOCATION:
UID:cbaec30e-7916-4b17-b50e-2d510f468117
END:VEVENT
END:VCALENDAR
