BEGIN:VCALENDAR
PRODID:-//Session events Calendar//IBA//EN
CALSCALE:GREGORIAN
VERSION:2.0
BEGIN:VEVENT
DTSTAMP:20260422T113216Z
DTSTART:20250303T090000Z
DTEND:20250303T101500Z
SUMMARY:The death of the tax-free regimes: what should we be thinking abo
 ut instead?
DESCRIPTION:As well as big shifts in certain local tax regimes\, both the
  EU and the OECD have indicated an appetite to introduce global minimum 
 taxes for individuals. In this panel\, we will investigate whether tax-f
 ree regimes for individuals are genuinely becoming a thing of the past. 
 Is this a global phenomenon or are certain countries still likely to att
 ract the ultra-wealthy? And how should advisers be preparing their clien
 ts for the future?\n
LOCATION:
UID:3f9902b8-2b7a-448f-aa96-d7004bc7bc52
END:VEVENT
END:VCALENDAR
