BEGIN:VCALENDAR
PRODID:-//Session events Calendar//IBA//EN
CALSCALE:GREGORIAN
VERSION:2.0
BEGIN:VEVENT
DTSTAMP:20260422T113226Z
DTSTART:20250303T101500Z
DTEND:20250303T110000Z
SUMMARY:Keynote address: The role of the unconscious in you and your clie
 nts
DESCRIPTION:Dr Sam Cleminson will explore the intricate world of the unco
 nscious and its profound influence on our thoughts\, feelings and behavi
 ours. Drawing from the fields of depth psychology and philosophy\, the t
 alk will challenge conventional thinking\, and inspire curiosity and dee
 p reflection\, as well help you understand the rich unspoken world of co
 mmunication between you\, your HNWI clients and their families. The insi
 ghts from this talk will aid you in improving client and personal relati
 onships and achieving more effective mediation and dispute resolutions f
 or these HNWI clients.\n
LOCATION:
UID:ced78021-4b36-4b48-b92b-b60798d06d65
END:VEVENT
END:VCALENDAR
