BEGIN:VCALENDAR
PRODID:-//Session events Calendar//IBA//EN
CALSCALE:GREGORIAN
VERSION:2.0
BEGIN:VEVENT
DTSTAMP:20260422T113216Z
DTSTART:20250303T110000Z
DTEND:20250303T113000Z
SUMMARY:Coffee/tea break
DESCRIPTION:
LOCATION:
UID:1cb38eb9-04f6-435d-9c63-ac15c811e248
END:VEVENT
END:VCALENDAR
