BEGIN:VCALENDAR
PRODID:-//Session events Calendar//IBA//EN
CALSCALE:GREGORIAN
VERSION:2.0
BEGIN:VEVENT
DTSTAMP:20260422T113216Z
DTSTART:20250303T124500Z
DTEND:20250303T140000Z
SUMMARY:Lunch
DESCRIPTION:
LOCATION:
UID:d4c3a37c-cc64-4503-99ad-956f1e187ac6
END:VEVENT
END:VCALENDAR
