BEGIN:VCALENDAR
PRODID:-//Session events Calendar//IBA//EN
CALSCALE:GREGORIAN
VERSION:2.0
BEGIN:VEVENT
DTSTAMP:20260422T113226Z
DTSTART:20250303T140000Z
DTEND:20250303T151500Z
SUMMARY:Round table session: 30 years of private client planning - what h
 as changed\, what went right and what went wrong? Will history repeat it
 self? 
DESCRIPTION:A dozen former Committee Chairs have seen most of it and will
  share their insights in this interactive session.\n
LOCATION:
UID:09d6d367-8d7a-4d77-a61e-f74235d4fd3d
END:VEVENT
END:VCALENDAR
