BEGIN:VCALENDAR
PRODID:-//Session events Calendar//IBA//EN
CALSCALE:GREGORIAN
VERSION:2.0
BEGIN:VEVENT
DTSTAMP:20260422T130542Z
DTSTART:20250303T151500Z
DTEND:20250303T154500Z
SUMMARY:Coffee/tea break
DESCRIPTION:
LOCATION:
UID:c0344c77-a13c-426b-8d97-ba10a524d2e7
END:VEVENT
END:VCALENDAR
