BEGIN:VCALENDAR
PRODID:-//Session events Calendar//IBA//EN
CALSCALE:GREGORIAN
VERSION:2.0
BEGIN:VEVENT
DTSTAMP:20260422T113226Z
DTSTART:20250303T154500Z
DTEND:20250303T170000Z
SUMMARY:10th anniversary of the EU-regulation on successions
DESCRIPTION:On 17 August 2015 the European Succession Regulation (Brussel
 s IV) entered into force\, creating harmonised conflict of law rules for
  cross-border successions within the EU and introducing a European Certi
 ficate of Succession. Now\, almost ten years later\, it’s time for a tho
 rough evaluation: what works and what doesn’t?\n
LOCATION:
UID:3411fc67-de44-47a5-b1a7-20d8407cb264
END:VEVENT
END:VCALENDAR
