BEGIN:VCALENDAR
PRODID:-//Session events Calendar//IBA//EN
CALSCALE:GREGORIAN
VERSION:2.0
BEGIN:VEVENT
DTSTAMP:20260422T130541Z
DTSTART:20250304T091500Z
DTEND:20250304T103000Z
SUMMARY:Rich kids part I: Being born in the deep end of the gene pool
DESCRIPTION:This session will cover the protection\, treatment\, unificat
 ion and possible separation of\, as well as contingency planning for\, s
 oon-to-be affluent young family members.\n
LOCATION:
UID:a5327769-c564-44ff-b70b-545c8aae1dd2
END:VEVENT
END:VCALENDAR
