BEGIN:VCALENDAR
PRODID:-//Session events Calendar//IBA//EN
CALSCALE:GREGORIAN
VERSION:2.0
BEGIN:VEVENT
DTSTAMP:20260422T113216Z
DTSTART:20250304T103000Z
DTEND:20250304T110000Z
SUMMARY:Coffee/tea break
DESCRIPTION:
LOCATION:
UID:0877bfc7-971a-4e3f-8568-9be1c5142379
END:VEVENT
END:VCALENDAR
