BEGIN:VCALENDAR
PRODID:-//Session events Calendar//IBA//EN
CALSCALE:GREGORIAN
VERSION:2.0
BEGIN:VEVENT
DTSTAMP:20260422T130541Z
DTSTART:20250304T121500Z
DTEND:20250304T134500Z
SUMMARY:Lunch
DESCRIPTION:
LOCATION:
UID:f49aca5c-a70b-4720-9348-66f6d4ee1768
END:VEVENT
END:VCALENDAR
