BEGIN:VCALENDAR
PRODID:-//Session events Calendar//IBA//EN
CALSCALE:GREGORIAN
VERSION:2.0
BEGIN:VEVENT
DTSTAMP:20260422T113217Z
DTSTART:20250304T134500Z
DTEND:20250304T150000Z
SUMMARY:Trends in Asia
DESCRIPTION:Fiscal policies and geopolitical pressures have affected how 
 UHNW families protect their current wealth and their legacies for future
  generations. In Asia\, the impact for wealth advisors can be seen in te
 rms of global mobility either into or out of relevant jurisdictions. Ple
 ase join us for an Asian update on what concerns our clients\, the impac
 t of new taxes or tax transparency\, where families are moving to\, and 
 how family offices or related structures play into their planning decisi
 ons. Our panel has been assembled from leading private client practition
 ers in jurisdictions stretching from Asia Pacific and the Indian subcont
 inent all the way to the Middle East.\n
LOCATION:
UID:9819aaa7-fa8e-46b1-9370-ffc7efab9acf
END:VEVENT
END:VCALENDAR
