BEGIN:VCALENDAR
PRODID:-//Session events Calendar//IBA//EN
CALSCALE:GREGORIAN
VERSION:2.0
BEGIN:VEVENT
DTSTAMP:20260422T113216Z
DTSTART:20250304T150000Z
DTEND:20250304T153000Z
SUMMARY:Coffee/tea break
DESCRIPTION:
LOCATION:
UID:55ebb2d4-bf57-470b-a7e4-ecb17bd6a08e
END:VEVENT
END:VCALENDAR
