BEGIN:VCALENDAR
PRODID:-//Session events Calendar//IBA//EN
CALSCALE:GREGORIAN
VERSION:2.0
BEGIN:VEVENT
DTSTAMP:20260422T113227Z
DTSTART:20250304T164500Z
DTEND:20250304T171500Z
SUMMARY:Open business meeting
DESCRIPTION:All delegates are invited to join the Committee Officers at a
 n open business meeting to discuss the planning of next year’s London co
 nference and other activities of the Private Client Tax Committee.\n
LOCATION:
UID:7d8fecd4-d154-4663-a8b0-ce3b5a048d62
END:VEVENT
END:VCALENDAR
