BEGIN:VCALENDAR
PRODID:-//Session events Calendar//IBA//EN
CALSCALE:GREGORIAN
VERSION:2.0
BEGIN:VEVENT
DTSTAMP:20260425T220219Z
DTSTART:20251106T161500Z
DTEND:20251106T173000Z
SUMMARY:Equity on trial: gender justice in sport today
DESCRIPTION:The situation in women’s boxing during the last Olympic Games
  highlights the ongoing debate about fairness in gender categories in sp
 ort. The interplay between preserving “fair competition” and discriminat
 ion\, and the right to dignity is complex\, particularly in today’s rapi
 dly changing and politicised world. This panel will cover current issues
  relating to women in sports\, including the broader legal implications 
 that arise from the ongoing debate about where to draw the “fair play” l
 ine\, such as privacy\, discrimination\, and competing jurisdictions.
LOCATION:Room 703\, Level 700\, MTCC
UID:2791ea0f-0efb-43c8-81fb-6a394e136e00
END:VEVENT
END:VCALENDAR
