BEGIN:VCALENDAR
PRODID:-//Session events Calendar//IBA//EN
CALSCALE:GREGORIAN
VERSION:2.0
BEGIN:VEVENT
DTSTAMP:20260420T113422Z
DTSTART:20251106T143000Z
DTEND:20251106T154500Z
SUMMARY:US energy policy under Trump 2.0 and its impact on Canada and Mex
 ico
DESCRIPTION:How closely are North America’s energy policies and goals int
 ertwined? Will differences precipitate a divorce? Will sustainable alter
 natives become a casualty? And how are energy companies and lawyers addr
 essing the changes? We will explore all of these topics and more in this
  session.
LOCATION:Room 605\, Level 600\, MTCC
UID:5b8d5100-904e-4edd-92e3-c9c309e4152c
END:VEVENT
END:VCALENDAR
