BEGIN:VCALENDAR
PRODID:-//Session events Calendar//IBA//EN
CALSCALE:GREGORIAN
VERSION:2.0
BEGIN:VEVENT
DTSTAMP:20260424T181519Z
DTSTART:20250129T120100Z
DTEND:20250129T125900Z
SUMMARY:IBA ESG Accelerator Programme – Sustainable finance
DESCRIPTION:
LOCATION:
UID:db442eb1-20bc-4811-be6d-ed032841dede
END:VEVENT
END:VCALENDAR
