BEGIN:VCALENDAR
PRODID:-//Session events Calendar//IBA//EN
CALSCALE:GREGORIAN
VERSION:2.0
BEGIN:VEVENT
DTSTAMP:20260420T043218Z
DTSTART:20250428T071000Z
DTEND:20250428T071500Z
SUMMARY:Welcome and introduction
DESCRIPTION:
LOCATION:
UID:182364c0-d90c-4bf2-aed8-237a4096064b
END:VEVENT
END:VCALENDAR
