BEGIN:VCALENDAR
PRODID:-//Session events Calendar//IBA//EN
CALSCALE:GREGORIAN
VERSION:2.0
BEGIN:VEVENT
DTSTAMP:20260420T044357Z
DTSTART:20250428T074500Z
DTEND:20250428T091500Z
SUMMARY:Enforcers' Roundtable
DESCRIPTION:Enforcers from various jurisdictions around the world will di
 scuss the challenges of regulating the digital economy at the intersecti
 on of competition and communications laws. Topics will include jurisdict
 ional challenges\, cross-border cooperation\, and the impact of new tech
 nologies such as artificial intelligence on regulatory frameworks. \n
LOCATION:
UID:fdebd6ac-3b41-4385-8db7-d85c57d7578e
END:VEVENT
END:VCALENDAR
