BEGIN:VCALENDAR
PRODID:-//Session events Calendar//IBA//EN
CALSCALE:GREGORIAN
VERSION:2.0
BEGIN:VEVENT
DTSTAMP:20260423T001434Z
DTSTART:20250429T074500Z
DTEND:20250429T090000Z
SUMMARY:Digital sovereignty and security in the digital realm 
DESCRIPTION:With increasing dependence on digital infrastructure comes a 
 heightened focus on security and sovereignty in the digital realm. This 
 session will delve into the intersection of competition law and national
  security concerns\, addressing the implications of data localisation re
 quirements\, cybersecurity\, and digital sovereignty policies. Experts w
 ill discuss how competition law and regulation can play a role in promot
 ing secure and resilient digital markets while balancing national securi
 ty interests and cross-border data flows.\n
LOCATION:
UID:1130b884-5b2c-4766-bab2-1a989f8631b0
END:VEVENT
END:VCALENDAR
