BEGIN:VCALENDAR
PRODID:-//Session events Calendar//IBA//EN
CALSCALE:GREGORIAN
VERSION:2.0
BEGIN:VEVENT
DTSTAMP:20260420T010151Z
DTSTART:20250429T105000Z
DTEND:20250429T110000Z
SUMMARY:Closing remarks
DESCRIPTION:
LOCATION:
UID:bbc6b2b8-9717-4e89-9f03-4c6919ca4ad5
END:VEVENT
END:VCALENDAR
