BEGIN:VCALENDAR
PRODID:-//Session events Calendar//IBA//EN
CALSCALE:GREGORIAN
VERSION:2.0
BEGIN:VEVENT
DTSTAMP:20260424T151140Z
DTSTART:20250403T083000Z
DTEND:20250403T140000Z
SUMMARY:Registration
DESCRIPTION:
LOCATION:Ampthill Foyer\, 3rd Floor
UID:859dff8c-c2a8-478e-b410-02e5f57e028c
END:VEVENT
END:VCALENDAR
