BEGIN:VCALENDAR
PRODID:-//Session events Calendar//IBA//EN
CALSCALE:GREGORIAN
VERSION:2.0
BEGIN:VEVENT
DTSTAMP:20260424T151140Z
DTSTART:20250403T091000Z
DTEND:20250403T093000Z
SUMMARY:Keynote address
DESCRIPTION:
LOCATION:Cambria Room\, 3rd Floor
UID:496d039a-f60c-4684-af9c-ceec69cb0a9f
END:VEVENT
END:VCALENDAR
