BEGIN:VCALENDAR
PRODID:-//Session events Calendar//IBA//EN
CALSCALE:GREGORIAN
VERSION:2.0
BEGIN:VEVENT
DTSTAMP:20260424T151148Z
DTSTART:20250403T123000Z
DTEND:20250403T124000Z
SUMMARY:Closing Remarks
DESCRIPTION:
LOCATION:Cambria Room\, 3rd Floor
UID:7c1fccf6-83dd-4017-bab3-1bd5136c9dfa
END:VEVENT
END:VCALENDAR
