BEGIN:VCALENDAR
PRODID:-//Session events Calendar//IBA//EN
CALSCALE:GREGORIAN
VERSION:2.0
BEGIN:VEVENT
DTSTAMP:20260424T151147Z
DTSTART:20250403T124000Z
DTEND:20250403T140000Z
SUMMARY:Networking lunch
DESCRIPTION:
LOCATION:The Restaurant\, 2nd Floor
UID:be94b4a7-60a3-4682-9d05-4e920ae673a0
END:VEVENT
END:VCALENDAR
