BEGIN:VCALENDAR
PRODID:-//Session events Calendar//IBA//EN
CALSCALE:GREGORIAN
VERSION:2.0
BEGIN:VEVENT
DTSTAMP:20260423T173545Z
DTSTART:20250612T002000Z
DTEND:20250612T014500Z
SUMMARY:Session one: Enforcers’ roundtable: trends and enforcement priori
 ties in jurisdictions around the world
DESCRIPTION:In light of changes in the political landscape of many jurisd
 ictions\, enforcers will discuss recent developments and priorities for 
 the coming year in all areas of competition law including mergers\, cart
 els\, abuse of dominance and regulation of technology platforms. We will
  touch upon issues such as whether regulation (emulating the EU’s Digita
 l Markets Act) is the right direction for jurisdictions across Asia and 
 globally\; merger control enforcement in a world focussed more on indust
 rial policy and protection from foreign competition\; cooperation betwee
 n regulators in Asia and worldwide\; and the ways competition authoritie
 s can help create a positive framework for economic growth while protect
 ing consumers’ interests.
LOCATION:
UID:05a849b4-f566-48cc-9c4e-fc838a328b10
END:VEVENT
END:VCALENDAR
