BEGIN:VCALENDAR
PRODID:-//Session events Calendar//IBA//EN
CALSCALE:GREGORIAN
VERSION:2.0
BEGIN:VEVENT
DTSTAMP:20260423T205600Z
DTSTART:20250612T000000Z
DTEND:20250612T001000Z
SUMMARY:Introduction by the Conference Co-Chairs
DESCRIPTION:Host Committee\nAnderson Mori &amp\; Tomotsune\nAtsumi &amp\;
  Sakai\nHibiya Sogo\nIkeda &amp\; Someya\nMori Hamada &amp\; Matsumoto\n
 Nagashima Ohno &amp\; Tsunematsu\nNishimura &amp\; Asahi\nTMI Associates
 \nYabuki Law Office
LOCATION:
UID:963f09e8-7429-42e9-abc8-89640e6a09e1
END:VEVENT
END:VCALENDAR
