BEGIN:VCALENDAR
PRODID:-//Session events Calendar//IBA//EN
CALSCALE:GREGORIAN
VERSION:2.0
BEGIN:VEVENT
DTSTAMP:20260423T205600Z
DTSTART:20250613T033000Z
DTEND:20250613T034500Z
SUMMARY:Closing remarks
DESCRIPTION:
LOCATION:
UID:fd35fe73-b927-43a3-8d4f-48d8f0fc89d9
END:VEVENT
END:VCALENDAR
