BEGIN:VCALENDAR
PRODID:-//Session events Calendar//IBA//EN
CALSCALE:GREGORIAN
VERSION:2.0
BEGIN:VEVENT
DTSTAMP:20260425T164840Z
DTSTART:20250606T084500Z
DTEND:20250606T093000Z
SUMMARY:Well-being in the Legal Profession: Creating a Culture that Cares
  – Looking after Talent by Fostering a Healthy and Supportive Workplace
DESCRIPTION:This session will focus on discussing strategies for law firm
 s to build a supportive culture that values professional well-being as a
  core principle. Drawing on findings from recent reports and research\, 
 including guidelines and insights from the Mindful Business Charter\, th
 e session will highlight ways to nurture and retain talent\, foster a he
 althier\, more connected workplace\, and explore the role of supervising
  partners in developing an ethical\, healthy\, and supportive work envir
 onment.
LOCATION:
UID:88e5cc9d-7aeb-47ad-b16a-c3d811507b86
END:VEVENT
END:VCALENDAR
