BEGIN:VCALENDAR
PRODID:-//Session events Calendar//IBA//EN
CALSCALE:GREGORIAN
VERSION:2.0
BEGIN:VEVENT
DTSTAMP:20260424T185503Z
DTSTART:20250507T140000Z
DTEND:20250507T160000Z
SUMMARY:Young lawyers’ programme: From clerking to coding: The AI revolut
 ion in legal practice
DESCRIPTION:PLEASE NOTE: This session is taking place atAdvokatfirmaet BA
 HR AS\,Tjuvholmen allé 16\, 0252 Oslo\, Norway\n\nThis session will feat
 ure an interactive discussion exploring the intersection of Generative A
 I and legal banking\, financial\, securities and capital markets practic
 e\, highlighting practical implications and advantages as well as availa
 ble tools. The panel\, also featuring representatives of two AI provider
 s\, will offer diverse perspectives on current use cases\, adoption stra
 tegies in corporate and regulated environments\, recent AI tool developm
 ents\, and evolving client expectations. Participants are encouraged to 
 engage in discussions about critical topics such as ethical consideratio
 ns\, confidentiality\, and the shifting responsibilities of lawyers in a
 n AI-enhanced legal landscape. This session is essential for experienced
  practitioners and younger lawyers alike.\n
LOCATION:Advokatfirmaet BAHR AS
UID:e060203c-d742-42f6-9094-b484052990be
END:VEVENT
END:VCALENDAR
