BEGIN:VCALENDAR
PRODID:-//Session events Calendar//IBA//EN
CALSCALE:GREGORIAN
VERSION:2.0
BEGIN:VEVENT
DTSTAMP:20260424T185544Z
DTSTART:20250508T070000Z
DTEND:20250508T071000Z
SUMMARY:Opening remarks
DESCRIPTION:
LOCATION:
UID:1bb88f79-6a22-4cf2-887f-22f7f0159e8c
END:VEVENT
END:VCALENDAR
