BEGIN:VCALENDAR
PRODID:-//Session events Calendar//IBA//EN
CALSCALE:GREGORIAN
VERSION:2.0
BEGIN:VEVENT
DTSTAMP:20260424T185503Z
DTSTART:20250508T071000Z
DTEND:20250508T074500Z
SUMMARY:Keynote address
DESCRIPTION:
LOCATION:
UID:6348ae9d-468f-471b-9792-838ab302c691
END:VEVENT
END:VCALENDAR
