BEGIN:VCALENDAR
PRODID:-//Session events Calendar//IBA//EN
CALSCALE:GREGORIAN
VERSION:2.0
BEGIN:VEVENT
DTSTAMP:20260424T185503Z
DTSTART:20250508T121500Z
DTEND:20250508T133000Z
SUMMARY:Small step or giant leap?  The EU Listing Act and the future of t
 he European capital markets union
DESCRIPTION:On 8 October 2024\, the EU adopted the EU Listing Act which i
 s aimed at making European capital markets more attractive and facilitat
 e listings on European stock exchanges. Key amendments affect the Europe
 an regulations on prospectuses\, market abuse and investment services. T
 his panel looks at the main changes in the reform package that market pl
 ayers are facing as well as shortcomings in the new rules and challenges
  that the EU and other markets globally will need to deal with.\n
LOCATION:
UID:4ffe3144-eeaa-43a3-a40c-189aecec2db6
END:VEVENT
END:VCALENDAR
