BEGIN:VCALENDAR
PRODID:-//Session events Calendar//IBA//EN
CALSCALE:GREGORIAN
VERSION:2.0
BEGIN:VEVENT
DTSTAMP:20260424T185503Z
DTSTART:20250508T140000Z
DTEND:20250508T151500Z
SUMMARY:Military equipment financing
DESCRIPTION:Dramatically changing geopolitical environment fuels rapidly 
 increasing military spendings in many countries. In addition to increasi
 ng their budgetary spendings\, states are looking for additional sources
  of financing military equipment and boosting their defence industries\,
  including the use of commercial debt financing\, often backed by ECAs a
 nd IFIs\, but also subsidies or grants from dedicated military financing
  programs.\n\nThe panellists will explore\, among others\, the interplay
  of public and private funding for military investments\, the increasing
  role of financial institutions as well as specifics of such sovereign d
 ebt financing structures and ways to unlock private funding for defence 
 industry players.\n
LOCATION:
UID:a2fc90e9-95f2-4c97-a4aa-9acd27030e1f
END:VEVENT
END:VCALENDAR
