BEGIN:VCALENDAR
PRODID:-//Session events Calendar//IBA//EN
CALSCALE:GREGORIAN
VERSION:2.0
BEGIN:VEVENT
DTSTAMP:20260424T185544Z
DTSTART:20250509T091500Z
DTEND:20250509T103000Z
SUMMARY:AML compliance & liability risks – Navigating the legal minefield
  
DESCRIPTION:Regulatory scrutiny on anti-money laundering (AML) compliance
  is intensifying\, and the consequences of non-compliance can be severe.
  From substantial administrative fines to criminal sanctions and civil l
 iability\, banks\, financial institutions\, and their management face si
 gnificant liability risk if they fail to meet AML obligations.\nThis pan
 el will discuss the AML landscape\, key risk areas\, and real-world enfo
 rcement cases. It will explore the legal and practical implications of n
 on-compliance\, the potential liability risks\, and the measures institu
 tions can take to mitigate exposure.\n
LOCATION:
UID:c72f2e23-82ee-4916-a2b7-273dad94567b
END:VEVENT
END:VCALENDAR
