BEGIN:VCALENDAR
PRODID:-//Session events Calendar//IBA//EN
CALSCALE:GREGORIAN
VERSION:2.0
BEGIN:VEVENT
DTSTAMP:20260424T185544Z
DTSTART:20250508T060000Z
DTEND:20250508T153000Z
SUMMARY:Registration
DESCRIPTION:
LOCATION:
UID:7df5d7fa-61aa-4592-be31-d419cd0ccb76
END:VEVENT
END:VCALENDAR
