BEGIN:VCALENDAR
PRODID:-//Session events Calendar//IBA//EN
CALSCALE:GREGORIAN
VERSION:2.0
BEGIN:VEVENT
DTSTAMP:20260424T185545Z
DTSTART:20250508T090000Z
DTEND:20250508T093000Z
SUMMARY:Coffee/tea break
DESCRIPTION:
LOCATION:
UID:2984fda4-c341-459c-9a3e-b293fa8cf549
END:VEVENT
END:VCALENDAR
