BEGIN:VCALENDAR
PRODID:-//Session events Calendar//IBA//EN
CALSCALE:GREGORIAN
VERSION:2.0
BEGIN:VEVENT
DTSTAMP:20260424T185544Z
DTSTART:20250508T104500Z
DTEND:20250508T121500Z
SUMMARY:Lunch
DESCRIPTION:
LOCATION:
UID:4771a15e-b960-4937-8ac2-4539b2d372b3
END:VEVENT
END:VCALENDAR
